BEGIN:VCALENDAR
VERSION:2.0
PRODID:-//Center for Land-Based Learning - ECPv6.15.20//NONSGML v1.0//EN
CALSCALE:GREGORIAN
METHOD:PUBLISH
X-ORIGINAL-URL:https://www.landbasedlearning.org
X-WR-CALDESC:Events for Center for Land-Based Learning
REFRESH-INTERVAL;VALUE=DURATION:PT1H
X-Robots-Tag:noindex
X-PUBLISHED-TTL:PT1H
BEGIN:VTIMEZONE
TZID:America/Los_Angeles
BEGIN:DAYLIGHT
TZOFFSETFROM:-0800
TZOFFSETTO:-0700
TZNAME:PDT
DTSTART:20250309T100000
END:DAYLIGHT
BEGIN:STANDARD
TZOFFSETFROM:-0700
TZOFFSETTO:-0800
TZNAME:PST
DTSTART:20251102T090000
END:STANDARD
BEGIN:DAYLIGHT
TZOFFSETFROM:-0800
TZOFFSETTO:-0700
TZNAME:PDT
DTSTART:20260308T100000
END:DAYLIGHT
BEGIN:STANDARD
TZOFFSETFROM:-0700
TZOFFSETTO:-0800
TZNAME:PST
DTSTART:20261101T090000
END:STANDARD
BEGIN:DAYLIGHT
TZOFFSETFROM:-0800
TZOFFSETTO:-0700
TZNAME:PDT
DTSTART:20270314T100000
END:DAYLIGHT
BEGIN:STANDARD
TZOFFSETFROM:-0700
TZOFFSETTO:-0800
TZNAME:PST
DTSTART:20271107T090000
END:STANDARD
END:VTIMEZONE
BEGIN:VEVENT
DTSTART;TZID=America/Los_Angeles:20260609T090000
DTEND;TZID=America/Los_Angeles:20260609T170000
DTSTAMP:20260419T082937
CREATED:20260410T163949Z
LAST-MODIFIED:20260410T180730Z
UID:10001778-1780995600-1781024400@www.landbasedlearning.org
SUMMARY:¡Soy Facilitador! Train the Trainer day 1
DESCRIPTION:Join us for a 2.5-day immersive Train-the-Trainer experience\, facilitated in Spanish\, for educators and supervisors who lead trainings and want to elevate their impact with Spanish-speaking audiences. \nOver 2.5 days\, you will gain practical\, research-informed strategies to design and facilitate learning experiences that truly resonate and drive lasting change. \n  \nBy the end of this program you will be able to: \n\nTransform passive audiences into active participants\nDesign high-impact learning experiences people remember and apply\nFacilitate with confidence\, presence\, and engagement\nDeliver training that drives measurable change\n\n  \nWhat you will experience \n\n2.5-day immersive\, hands-on workshop\nReal practice facilitating learning sessions\nPersonalized expert feedback\nOne-on-one online coaching before and after the program\nProven accelerated learning methodology\n\n  \nThis training is ideal for educators\, facilitators\, supervisors\, and company leaders who want to deepen their effectiveness and confidently lead powerful trainings in Spanish.In addition to the 2.5-day intensive training\, participants will complete a pre-training questionnaire to help tailor the content to their needs. The program also includes follow-up online sessions to support participants in applying their learning. \nBreakfast snacks\, coffee\, and tea are included each day. Lunch will be provided day 1 & 2. \nPrice: $250\nNonprofit Rate: $100 (Use code NONPROFIT at checkout) \nRegister now at Soy Facilitador! Train the Trainer \nQuestions? Email aghire@landbasedlearning.org
URL:https://www.landbasedlearning.org/event/soy-facilitador-train-the-trainer-day-1/
LOCATION:Bryte Career and College Training\, 637 Todhunter Ave\, West Sacramento\, CA\, 95605\, United States
CATEGORIES:AgHiRE,Apprenticeship,Farmer Education
ATTACH;FMTTYPE=image/jpeg:https://www.landbasedlearning.org/wp-content/uploads/IMG_2080-scaled-e1775838967779.jpeg
END:VEVENT
BEGIN:VEVENT
DTSTART;TZID=America/Los_Angeles:20260610T090000
DTEND;TZID=America/Los_Angeles:20260610T170000
DTSTAMP:20260419T082937
CREATED:20260410T164047Z
LAST-MODIFIED:20260410T180635Z
UID:10001779-1781082000-1781110800@www.landbasedlearning.org
SUMMARY:¡Soy Facilitador! Train the Trainer day 2
DESCRIPTION:Join us for a 2.5-day immersive Train-the-Trainer experience\, facilitated in Spanish\, for educators and supervisors who lead trainings and want to elevate their impact with Spanish-speaking audiences. \nOver 2.5 days\, you will gain practical\, research-informed strategies to design and facilitate learning experiences that truly resonate and drive lasting change. \n  \nBy the end of this program you will be able to: \n\nTransform passive audiences into active participants\nDesign high-impact learning experiences people remember and apply\nFacilitate with confidence\, presence\, and engagement\nDeliver training that drives measurable change\n\n  \nWhat you will experience \n\n2.5-day immersive\, hands-on workshop\nReal practice facilitating learning sessions\nPersonalized expert feedback\nOne-on-one online coaching before and after the program\nProven accelerated learning methodology\n\n  \nThis training is ideal for educators\, facilitators\, supervisors\, and company leaders who want to deepen their effectiveness and confidently lead powerful trainings in Spanish.In addition to the 2.5-day intensive training\, participants will complete a pre-training questionnaire to help tailor the content to their needs. The program also includes follow-up online sessions to support participants in applying their learning. \nBreakfast snacks\, coffee\, and tea are included each day. Lunch will be provided day 1 & 2. \nPrice: $250\nNonprofit Rate: $100 (Use code NONPROFIT at checkout) \nRegister now at Soy Facilitador! Train the Trainer \nQuestions? Email aghire@landbasedlearning.org
URL:https://www.landbasedlearning.org/event/soy-facilitador-train-the-trainer-day-2/
LOCATION:Bryte Career and College Training\, 637 Todhunter Ave\, West Sacramento\, CA\, 95605\, United States
CATEGORIES:AgHiRE,Apprenticeship,Farmer Education
ATTACH;FMTTYPE=image/jpeg:https://www.landbasedlearning.org/wp-content/uploads/IMG_2080-scaled-e1775838967779.jpeg
END:VEVENT
BEGIN:VEVENT
DTSTART;TZID=America/Los_Angeles:20260611T090000
DTEND;TZID=America/Los_Angeles:20260611T120000
DTSTAMP:20260419T082937
CREATED:20260410T163502Z
LAST-MODIFIED:20260410T180803Z
UID:10001413-1781168400-1781179200@www.landbasedlearning.org
SUMMARY:¡Soy Facilitador! Train the Trainer day 3
DESCRIPTION:Join us for a 2.5-day immersive Train-the-Trainer experience\, facilitated in Spanish\, for educators and supervisors who lead trainings and want to elevate their impact with Spanish-speaking audiences. \nOver 2.5 days\, you will gain practical\, research-informed strategies to design and facilitate learning experiences that truly resonate and drive lasting change. \n  \nBy the end of this program you will be able to: \n\nTransform passive audiences into active participants\nDesign high-impact learning experiences people remember and apply\nFacilitate with confidence\, presence\, and engagement\nDeliver training that drives measurable change\n\n  \nWhat you will experience \n\n2.5-day immersive\, hands-on workshop\nReal practice facilitating learning sessions\nPersonalized expert feedback\nOne-on-one online coaching before and after the program\nProven accelerated learning methodology\n\n  \nThis training is ideal for educators\, facilitators\, supervisors\, and company leaders who want to deepen their effectiveness and confidently lead powerful trainings in Spanish.In addition to the 2.5-day intensive training\, participants will complete a pre-training questionnaire to help tailor the content to their needs. The program also includes follow-up online sessions to support participants in applying their learning. \nBreakfast snacks\, coffee\, and tea are included each day. Lunch will be provided day 1 & 2. \nPrice: $250\nNonprofit Rate: $100 (Use code NONPROFIT at checkout) \nRegister now at Soy Facilitador! Train the Trainer \nQuestions? Email aghire@landbasedlearning.org
URL:https://www.landbasedlearning.org/event/soy-facilitador-train-the-trainer-day-3/
LOCATION:Bryte Career and College Training\, 637 Todhunter Ave\, West Sacramento\, CA\, 95605\, United States
CATEGORIES:AgHiRE,Apprenticeship,Farmer Education
ATTACH;FMTTYPE=image/jpeg:https://www.landbasedlearning.org/wp-content/uploads/IMG_2080-scaled-e1775838967779.jpeg
END:VEVENT
END:VCALENDAR